BEGIN:VCALENDAR
VERSION:2.0
PRODID:-//GeoComPass Salzburg
CALSCALE:GREGORIAN
METHOD:PUBLISH
X-WR-CALNAME:GeoComPass Salzburg
X-ORIGINAL-URL:https://www.geocompass.at/veranstaltungen/toleranzkultur-im-istanbul-vor-200-jahren-ein-modell-fuer-die-zukunft/
X-WR-CALDESC:Toleranzkultur im Istanbul vor 200 Jahren – ein Modell für die Zukunft?
BEGIN:VEVENT
DTSTART:20250401T193000
DTEND:20250401T213000
SUMMARY:Toleranzkultur im Istanbul vor 200 Jahren – ein Modell für die Zukunft?
DESCRIPTION:GeoComPass AKTUELL | Die Widrigkeiten in der heutigen Türkei täuschen über die vielen Jahrhunderte hinweg, in denen sich die osmanische Gesellschaft offen und tolerant entwickelte und viele Kulturen und Religionen am Bosporus zuließ. Die Toleranz war so ungewöhnlich, dass auswärtige Reisende sie in ganzen Tagebüchern eingehend würdigten. Kann diese Geisteshaltung heutzutage wiederentdeckt werden und als Modell für eine gedeihliche Zukunft dienen?

LOCATION:Natur- und Lebenswissenschaftliche Fakultät, Grüner Hörsaal, Hellbrunnerstraße 34, A-5020 Salzburg
END:VEVENT
END:VCALENDAR
