BEGIN:VCALENDAR
VERSION:2.0
PRODID:-//GeoComPass Salzburg
CALSCALE:GREGORIAN
METHOD:PUBLISH
X-WR-CALNAME:GeoComPass Salzburg
X-ORIGINAL-URL:https://www.geocompass.at/veranstaltungen/fruehe-muellner-wirtshaeuser-und-403-jahre-augustiner-braeu-muelln-2/
X-WR-CALDESC:Frühe Müllner Wirtshäuser und 403 Jahre Augustiner Bräu Mülln
BEGIN:VEVENT
DTSTART:20250228T140000
DTEND:20250228T160000
SUMMARY:Frühe Müllner Wirtshäuser und 403 Jahre Augustiner Bräu Mülln
DESCRIPTION:GeoComPass UNTERWEGS | Das Müllner Bräu – im Sommer wie im Winter eine klassische Institution Salzburger Gast- und Gemütlichkeit. Der Historiker Gerhard Ammerer würdigt die Geschichte und erzählt Anekdoten und Begebenheiten dieser einzigartigen wie unverwechselbaren gastronomischen Institution, mit anschließender geselliger Runde bei einem GeoComPass ZSAMMSITZN und Exkursionsfotos aus dem vergangenen Jahr.

LOCATION:
END:VEVENT
END:VCALENDAR
