BEGIN:VCALENDAR
VERSION:2.0
PRODID:-//GeoComPass Salzburg
CALSCALE:GREGORIAN
METHOD:PUBLISH
X-WR-CALNAME:GeoComPass Salzburg
X-ORIGINAL-URL:https://www.geocompass.at/veranstaltungen/passau-vom-donauschiff-zur-domorgel-ein-blick-hinter-die-kulissen/
X-WR-CALDESC:Passau: Vom Donauschiff zur Domorgel &#8211; Ein Blick hinter die Kulissen
BEGIN:VEVENT
DTSTART:20220916T070000
DTEND:20220916T180000
SUMMARY:Passau: Vom Donauschiff zur Domorgel &#8211; Ein Blick hinter die Kulissen
DESCRIPTION:GeoComPass UNTERWEGS | Donauschiff und Domorgel - zwei der wichtigsten touristischen Sujets Passaus: Welche Bedeutung haben Kreuzfahrt, Kirche und Kultur für die Dreiflüssestadt?

LOCATION:
END:VEVENT
END:VCALENDAR
