BEGIN:VCALENDAR
VERSION:2.0
PRODID:-//GeoComPass Salzburg
CALSCALE:GREGORIAN
METHOD:PUBLISH
X-WR-CALNAME:GeoComPass Salzburg
X-ORIGINAL-URL:https://www.geocompass.at/veranstaltungen/mobilitaetspolitik-am-scheideweg-strategien-fuer-eine-nachhaltige-verkehrsentwicklung/
X-WR-CALDESC:Mobilitätspolitik am Scheideweg – Strategien für eine nachhaltige Verkehrsentwicklung
BEGIN:VEVENT
DTSTART:20191126T193000
DTEND:20191126T213000
SUMMARY:Mobilitätspolitik am Scheideweg – Strategien für eine nachhaltige Verkehrsentwicklung
DESCRIPTION:GeoComPass SALZBURG | Ohne innovative Mobilitätspolitik führt der bisherige Trend nur weiter in den Stau. Doch wird eine effiziente Verkehrswende auch wirklich politisch gewollt und administrativ ermöglicht? Nur dann nämlich steht der Verkehr auch für einen grundlegenden Klimaschutz.
LOCATION:OVAL - Die Bühne im EUROPARK, Europastraße 1, A-5020 Salzburg
END:VEVENT
END:VCALENDAR
